BEGIN:VCALENDAR
VERSION:2.0
PRODID:-//wp-events-plugin.com//7.2.3.1//EN
TZID:Europe/Berlin
X-WR-TIMEZONE:Europe/Berlin
BEGIN:VEVENT
UID:118@eesi-impulszentrum.at
DTSTART;TZID=Europe/Berlin;VALUE=DATE:20180418
DTEND;TZID=Europe/Berlin;VALUE=DATE:20180421
DTSTAMP:20170416T210648Z
URL:https://www.eesi-impulszentrum.at/events/youthstart-entrepreneurial-ch
 allenge-programm-teil-2/
SUMMARY:Youth Start – Entrepreneurial Challenge Programm Teil 2
DESCRIPTION:Entrepreneurship Education als Unterrichtsprinzip\nDas Seminar 
 bietet „Lernen durch Herausforderungen“ als einen modernen Ansatz der 
 Entrepreneurship Education quer durch die Unterrichtsfächer\, mit einem S
 chwerpunkt auf den III. und IV. Jahrgang.\nTermine\nMi.\, 18.04.2018\, 10:
 00 Uhr – 20:00 Uhr\, (17:00 Uhr – 20:00 Uhr\, Am Kaiserwasser\, Eiswer
 kstraße 20\, 1220 Wien)\nDo.\, 19.04.2018\, 09:00 Uhr – 17:30 Uhr und\n
 Fr.\, 20.04.2018\, 09:00 Uhr – 16:30 Uhr\nReferentInnen\nMMag. Gerald Fr
 öhlich\, Mag. Erika Hammerl\, Mag. Achim Hartmann\, Mag. Eva Jambor\, Mag
 . Stefan Lamprechter\, Mag. Johannes Lindner\, MMag. Beate Tötterström\n
 Zielgruppe\nAlle LehrerInnnen (bundesweit)\, insbesondere LehrerInnen\, di
 e am YouthStart Entrepreneurial\nChallgenges Programm Teil 1 teilgenommen 
 haben.\nKPH LV-Nr. 8730.031\nOrt: KPH Wien/Krems\, Bildungszentrum Stephan
 splatz\, Singerstraße 7/Stiege 4\, 1010 Wien
CATEGORIES:KPH Programm,Seminar,YouthStart
LOCATION:KPH Wien/Krems\, Bildungszentrum Stephansplatz\, Singerstraße 7 /
  Stiege 4\, Wien\, 1010\, Österreich
GEO:48.2074433;16.373742900000025
X-APPLE-STRUCTURED-LOCATION;VALUE=URI;X-ADDRESS=Singerstraße 7 / Stiege 4\
 , Wien\, 1010\, Österreich;X-APPLE-RADIUS=100;X-TITLE=KPH Wien/Krems\, Bi
 ldungszentrum Stephansplatz:geo:48.2074433,16.373742900000025
END:VEVENT
BEGIN:VTIMEZONE
TZID:Europe/Berlin
X-LIC-LOCATION:Europe/Berlin
BEGIN:DAYLIGHT
DTSTART:20180325T030000
TZOFFSETFROM:+0100
TZOFFSETTO:+0200
TZNAME:CEST
END:DAYLIGHT
END:VTIMEZONE
END:VCALENDAR