BEGIN:VCALENDAR
VERSION:2.0
PRODID:-//wp-events-plugin.com//7.2.3.1//EN
TZID:Europe/Berlin
X-WR-TIMEZONE:Europe/Berlin
BEGIN:VEVENT
UID:122@eesi-impulszentrum.at
DTSTART;TZID=Europe/Berlin;VALUE=DATE:20180709
DTEND;TZID=Europe/Berlin;VALUE=DATE:20180714
DTSTAMP:20170516T174848Z
URL:https://www.eesi-impulszentrum.at/events/youth-start-entrepreneurial-c
 hallenge-programm-teil-1/
SUMMARY:Youth Start – Entrepreneurial Challenge Programm Teil 1
DESCRIPTION:Kitzbüheler Sommerhochschule für Entrepreneurship\nDie Kitzb
 üheler Sommerhochschule bietet die Chance\, an seinen eigenen Ideen zu ar
 beiten. Youth Start Entrepreneurial Challenges ist ein moderner Ansatz der
  Entrepreneurship Education\, durch Lernen von und mit Herausforderungen. 
 Das Seminar wird mit Unterstützung des Rotary Clubs Kitzbühel\, der Berg
 bahn Kitzbühel AG und dem Tourismusverband Kitzbühel durchgeführt.\nTer
 mine\nMo.\, 09.07.2018 – Fr.\, 13.07.2018\, jeweils 09:00 Uhr – 17:00 
 Uhr\,\nDo.\, 12.07.2018 mit einer Abendveranstaltung 19:00 Uhr – 21:00 U
 hr\nund am Fr.\, 13.07.2018 zusätzlich 18:00 Uhr – 22:00 Uhr in Hochki
 tzbühel\nReferentInnen\nUniv.-Prof. Dr. Günter Faltin\, Mag. Gerald Fr
 öhlich\, Mag. Erika Hammerl\, Mag. Inge Koch-Polagnoli\, Mag. Johannes Li
 ndner\, JungunterunternehmerInnen u. a.\nZielgruppe\nAlle LehrerInnen (bun
 desweit) - pro Schule bitte je 2 Personen\nAnmeldung\nbis 30.06.2017 per E
 -Mail an claudia.muell@kphvie.ac.at\nHinweis\nBitte besuchen Sie auch Teil
  2.\nKPH LV-Nr. 8730.034\nOrt: Kitzbühel
CATEGORIES:KPH Programm,Seminar,YouthStart
LOCATION:Kitzbühel Sommerhochschule\, Vorderstadt 14\, Kitzbühel\, 6370\,
  Österreich
GEO:47.4465148;12.390773699999954
X-APPLE-STRUCTURED-LOCATION;VALUE=URI;X-ADDRESS=Vorderstadt 14\, Kitzbühel
 \, 6370\, Österreich;X-APPLE-RADIUS=100;X-TITLE=Kitzbühel Sommerhochschu
 le:geo:47.4465148,12.390773699999954
END:VEVENT
BEGIN:VTIMEZONE
TZID:Europe/Berlin
X-LIC-LOCATION:Europe/Berlin
BEGIN:DAYLIGHT
DTSTART:20180325T030000
TZOFFSETFROM:+0100
TZOFFSETTO:+0200
TZNAME:CEST
END:DAYLIGHT
END:VTIMEZONE
END:VCALENDAR