BEGIN:VCALENDAR
VERSION:2.0
PRODID:-//wp-events-plugin.com//7.2.3.1//EN
TZID:Europe/Berlin
X-WR-TIMEZONE:Europe/Berlin
BEGIN:VEVENT
UID:488@eesi-impulszentrum.at
DTSTART;TZID=Europe/Berlin;VALUE=DATE:20250422
DTEND;TZID=Europe/Berlin;VALUE=DATE:20250426
DTSTAMP:20241015T064912Z
URL:https://www.eesi-impulszentrum.at/events/youth-entrepreneurship-week-h
 ak-weiz/
SUMMARY:Youth Entrepreneurship Week HAK Weiz
DESCRIPTION:
CATEGORIES:Wettbewerb
END:VEVENT
BEGIN:VTIMEZONE
TZID:Europe/Berlin
X-LIC-LOCATION:Europe/Berlin
BEGIN:DAYLIGHT
DTSTART:20250330T030000
TZOFFSETFROM:+0100
TZOFFSETTO:+0200
TZNAME:CEST
END:DAYLIGHT
END:VTIMEZONE
END:VCALENDAR