BEGIN:VCALENDAR
VERSION:2.0
PRODID:-//wp-events-plugin.com//7.2.3.1//EN
TZID:Europe/Berlin
X-WR-TIMEZONE:Europe/Berlin
BEGIN:VEVENT
UID:367@eesi-impulszentrum.at
DTSTART;TZID=Europe/Berlin;VALUE=DATE:20211116
DTEND;TZID=Europe/Berlin;VALUE=DATE:20211120
DTSTAMP:20211010T144012Z
URL:https://www.eesi-impulszentrum.at/events/youth-entrepreneurship-week-b
 hak-wiener-neustadt/
SUMMARY:Youth Entrepreneurship Week BHAK Wiener Neustadt
DESCRIPTION:Die SchülerInnen der 3. Jahrgänge des Ausbildungsschwerpunkte
 s ENMA arbeiten eine ganze Woche mit externen Trainern zusammen\, um eine 
 Geschäftsidee verwirklichen zu können. Die Youth Entrepreneurship Week f
 indet im Start Up Center Wiener Neustadt statt.
CATEGORIES:Workshop
LOCATION:BHAK/BHAS Wiener Neustadt\, Ungargasse 29\, Wiener Neustadt\, 2700
 \, Österreich
GEO:47.812392;16.250143
X-APPLE-STRUCTURED-LOCATION;VALUE=URI;X-ADDRESS=Ungargasse 29\, Wiener Neus
 tadt\, 2700\, Österreich;X-APPLE-RADIUS=100;X-TITLE=BHAK/BHAS Wiener Neus
 tadt:geo:47.812392,16.250143
END:VEVENT
BEGIN:VTIMEZONE
TZID:Europe/Berlin
X-LIC-LOCATION:Europe/Berlin
BEGIN:STANDARD
DTSTART:20211031T020000
TZOFFSETFROM:+0200
TZOFFSETTO:+0100
TZNAME:CET
END:STANDARD
END:VTIMEZONE
END:VCALENDAR