BEGIN:VCALENDAR
VERSION:2.0
PRODID:-//wp-events-plugin.com//7.2.3.1//EN
TZID:Europe/Berlin
X-WR-TIMEZONE:Europe/Berlin
BEGIN:VEVENT
UID:432@eesi-impulszentrum.at
DTSTART;TZID=Europe/Berlin;VALUE=DATE:20211005
DTEND;TZID=Europe/Berlin;VALUE=DATE:20211009
DTSTAMP:20230919T111723Z
URL:https://www.eesi-impulszentrum.at/events/yew-handelsakademie-feldkirch
 /
SUMMARY:YEW Handelsakademie Feldkirch
DESCRIPTION:
CATEGORIES:Allgemein
END:VEVENT
BEGIN:VTIMEZONE
TZID:Europe/Berlin
X-LIC-LOCATION:Europe/Berlin
BEGIN:DAYLIGHT
DTSTART:20210328T030000
TZOFFSETFROM:+0100
TZOFFSETTO:+0200
TZNAME:CEST
END:DAYLIGHT
END:VTIMEZONE
END:VCALENDAR