BEGIN:VCALENDAR
VERSION:2.0
PRODID:-//wp-events-plugin.com//7.2.3.1//EN
TZID:Europe/Berlin
X-WR-TIMEZONE:Europe/Berlin
BEGIN:VEVENT
UID:456@eesi-impulszentrum.at
DTSTART;TZID=Europe/Berlin;VALUE=DATE:20240305
DTEND;TZID=Europe/Berlin;VALUE=DATE:20240309
DTSTAMP:20240218T081037Z
URL:https://www.eesi-impulszentrum.at/events/yew-handelsakademie-feldkirch
 -3/
SUMMARY:YEW Handelsakademie Feldkirch
DESCRIPTION:
CATEGORIES:Allgemein,Workshop
END:VEVENT
BEGIN:VTIMEZONE
TZID:Europe/Berlin
X-LIC-LOCATION:Europe/Berlin
BEGIN:STANDARD
DTSTART:20231029T020000
TZOFFSETFROM:+0200
TZOFFSETTO:+0100
TZNAME:CET
END:STANDARD
END:VTIMEZONE
END:VCALENDAR