BEGIN:VCALENDAR
VERSION:2.0
PRODID:-//wp-events-plugin.com//7.2.3.1//EN
TZID:Europe/Berlin
X-WR-TIMEZONE:Europe/Berlin
BEGIN:VEVENT
UID:387@eesi-impulszentrum.at
DTSTART;TZID=Europe/Berlin:20220426T150000
DTEND;TZID=Europe/Berlin:20220426T180000
DTSTAMP:20220422T115415Z
URL:https://www.eesi-impulszentrum.at/events/yes-is-amazing/
SUMMARY:YES is amazing!
DESCRIPTION:"Passion led us here"\n\nDie Young Entrepreneur Society Vienna 
 veranstaltet einen Pitching Event an der Maygasse Business Academy\, 1130 
 Wien\n\nNach dem 2-Minuten-Pitch stellen sich die Schülerinnen - Teams de
 n Fragen der Jury\n\n\n\n
CATEGORIES:Wettbewerb
LOCATION:Maygasse Business Academy BHAK/BHAS Wien 13\, Maygasse 43\, Wien\,
  1130\, Österreich
GEO:48.164486;16.281488
X-APPLE-STRUCTURED-LOCATION;VALUE=URI;X-ADDRESS=Maygasse 43\, Wien\, 1130\,
  Österreich;X-APPLE-RADIUS=100;X-TITLE=Maygasse Business Academy BHAK/BHA
 S Wien 13:geo:48.164486,16.281488
END:VEVENT
BEGIN:VTIMEZONE
TZID:Europe/Berlin
X-LIC-LOCATION:Europe/Berlin
BEGIN:DAYLIGHT
DTSTART:20220327T030000
TZOFFSETFROM:+0100
TZOFFSETTO:+0200
TZNAME:CEST
END:DAYLIGHT
END:VTIMEZONE
END:VCALENDAR