BEGIN:VCALENDAR
VERSION:2.0
PRODID:-//wp-events-plugin.com//7.2.3.1//EN
TZID:Europe/Berlin
X-WR-TIMEZONE:Europe/Berlin
BEGIN:VEVENT
UID:530@eesi-impulszentrum.at
DTSTART;TZID=Europe/Berlin;VALUE=DATE:20250618
DTEND;TZID=Europe/Berlin;VALUE=DATE:20250621
DTSTAMP:20250612T103709Z
URL:https://www.eesi-impulszentrum.at/events/yepa-finale/
SUMMARY:YEPA Finale
DESCRIPTION:\n 	Finale des Young Entrepreneurs Programme Austria\n 	Auszeic
 hnung der besten Teams mit dem Rotary Award for Sustainability\n 	Jury-Sit
 zung Sparkassen-Saal Kitzbühel\n 	Auszeichnung im Niederstrasserhof\n\nF
 ür die Projektteams aus ganz Österreich.\n\nLeitung: Constantin\, Samant
 ha\, Paul und Valentin. Mit Dr. Hans Philipp\, Rotary Club Kitzbühel\n\nw
 ww.yepa.at
CATEGORIES:Wettbewerb,Workshop
LOCATION:Niederstrasserhof\, Eberhartling 1\, Oberndorf/Tirol\, 6372\, Öst
 erreich
GEO:47.505207;12.391436
X-APPLE-STRUCTURED-LOCATION;VALUE=URI;X-ADDRESS=Eberhartling 1\, Oberndorf/
 Tirol\, 6372\, Österreich;X-APPLE-RADIUS=100;X-TITLE=Niederstrasserhof:ge
 o:47.505207,12.391436
END:VEVENT
BEGIN:VTIMEZONE
TZID:Europe/Berlin
X-LIC-LOCATION:Europe/Berlin
BEGIN:DAYLIGHT
DTSTART:20250330T030000
TZOFFSETFROM:+0100
TZOFFSETTO:+0200
TZNAME:CEST
END:DAYLIGHT
END:VTIMEZONE
END:VCALENDAR