BEGIN:VCALENDAR
VERSION:2.0
PRODID:-//wp-events-plugin.com//7.2.3.1//EN
TZID:Europe/Berlin
X-WR-TIMEZONE:Europe/Berlin
BEGIN:VEVENT
UID:566@eesi-impulszentrum.at
DTSTART;TZID=Europe/Berlin:20260212T081500
DTEND;TZID=Europe/Berlin:20260212T120000
DTSTAMP:20260224T075908Z
URL:https://www.eesi-impulszentrum.at/events/wilma-projekt-hak-has-ybbs-in
 -der-vs-persenbeug-gottsdorf/
SUMMARY:WILMA - Projekt HAK-HAS Ybbs in der VS Persenbeug-Gottsdorf
DESCRIPTION:
CATEGORIES:YouthStart
LOCATION:HAK/HAS der Stadtgemeinde Ybbs an der Donau\, Schulring 1\, Ybbs a
 n der Donau\, 3370\, Österreich
GEO:48.177148;15.081702
X-APPLE-STRUCTURED-LOCATION;VALUE=URI;X-ADDRESS=Schulring 1\, Ybbs an der D
 onau\, 3370\, Österreich;X-APPLE-RADIUS=100;X-TITLE=HAK/HAS der Stadtgeme
 inde Ybbs an der Donau:geo:48.177148,15.081702
END:VEVENT
BEGIN:VTIMEZONE
TZID:Europe/Berlin
X-LIC-LOCATION:Europe/Berlin
BEGIN:STANDARD
DTSTART:20251026T020000
TZOFFSETFROM:+0200
TZOFFSETTO:+0100
TZNAME:CET
END:STANDARD
END:VTIMEZONE
END:VCALENDAR