BEGIN:VCALENDAR
VERSION:2.0
PRODID:-//wp-events-plugin.com//7.2.3.1//EN
TZID:Europe/Berlin
X-WR-TIMEZONE:Europe/Berlin
BEGIN:VEVENT
UID:287@eesi-impulszentrum.at
DTSTART;TZID=Europe/Berlin;VALUE=DATE:20200415
DTEND;TZID=Europe/Berlin;VALUE=DATE:20200418
DTSTAMP:20200329T155931Z
URL:https://www.eesi-impulszentrum.at/events/unternehmergeist-mach-schule-
 inkl-debattiertraining/
SUMMARY:Unternehmergeist mach Schule inkl. Debattiertraining
DESCRIPTION:A B G E S A G T\n\nNr. 8740.000.047 Debattiertraining\n\nWien\n
 \nAnmeldung über die KPH Wien/Krems\nNachmeldung: claudia.muell@kphvie.ac
 .at (bitte mit dem o.k. der Direktion)
CATEGORIES:Debattierclub,Seminar
LOCATION:TGA Wien\, Plößlgasse 13\, Wien\, 1040\, Österreich
GEO:48.1938497;16.37499379999997
X-APPLE-STRUCTURED-LOCATION;VALUE=URI;X-ADDRESS=Plößlgasse 13\, Wien\, 10
 40\, Österreich;X-APPLE-RADIUS=100;X-TITLE=TGA Wien:geo:48.1938497,16.374
 99379999997
END:VEVENT
BEGIN:VTIMEZONE
TZID:Europe/Berlin
X-LIC-LOCATION:Europe/Berlin
BEGIN:DAYLIGHT
DTSTART:20200329T030000
TZOFFSETFROM:+0100
TZOFFSETTO:+0200
TZNAME:CEST
END:DAYLIGHT
END:VTIMEZONE
END:VCALENDAR