BEGIN:VCALENDAR
VERSION:2.0
PRODID:-//wp-events-plugin.com//7.2.3.1//EN
TZID:Europe/Berlin
X-WR-TIMEZONE:Europe/Berlin
BEGIN:VEVENT
UID:429@eesi-impulszentrum.at
DTSTART;TZID=Europe/Berlin:20230522T080000
DTEND;TZID=Europe/Berlin:20230522T123500
DTSTAMP:20230523T063920Z
URL:https://www.eesi-impulszentrum.at/events/trash-value-challenge-entrepr
 eneurship-day-fuer-alle-2-klassen-2/
SUMMARY:Trash Value Challenge - Entrepreneurship Day für alle 2. Klassen
DESCRIPTION:Die Schüler:innen der 2. Jahrgänge/Klassen arbeiten an von ih
 nen selbst gewählten Projekten und schaffen aus "Trash" etwas von "Value"
 . Für einen Online-Impulsvortrag konnte Olga Witt (Tante Olga) gewonnen w
 erden.
CATEGORIES:Workshop,YouthStart
LOCATION:Business Campus Oberwart\, Badgasse 5\, Oberwart\, 7400\, Österre
 ich
GEO:47.286826;16.209906
X-APPLE-STRUCTURED-LOCATION;VALUE=URI;X-ADDRESS=Badgasse 5\, Oberwart\, 740
 0\, Österreich;X-APPLE-RADIUS=100;X-TITLE=Business Campus Oberwart:geo:47
 .286826,16.209906
END:VEVENT
BEGIN:VTIMEZONE
TZID:Europe/Berlin
X-LIC-LOCATION:Europe/Berlin
BEGIN:DAYLIGHT
DTSTART:20230326T030000
TZOFFSETFROM:+0100
TZOFFSETTO:+0200
TZNAME:CEST
END:DAYLIGHT
END:VTIMEZONE
END:VCALENDAR