BEGIN:VCALENDAR
VERSION:2.0
PRODID:-//wp-events-plugin.com//7.2.3.1//EN
TZID:Europe/Berlin
X-WR-TIMEZONE:Europe/Berlin
BEGIN:VEVENT
UID:550@eesi-impulszentrum.at
DTSTART;TZID=Europe/Berlin:20251125T000000
DTEND;TZID=Europe/Berlin:20251125T000000
DTSTAMP:20251109T164505Z
URL:https://www.eesi-impulszentrum.at/events/tag-gegen-gewalt-an-frauen/
SUMMARY:Tag gegen Gewalt an Frauen
DESCRIPTION:Anlässlich des Internationalen Tages gegen Gewalt an Frauen fi
 ndet in der Mediathek ein Workshop für die fünften Klassen statt. Alle a
 nderen Klassen können in der Klasse an verschiedenen Ideen zur Thematik a
 rbeiten. Die Social Media Gruppe wird eine Kampagne zur Sensibilisierung v
 orbereiten und auf dem Instagram-Kanal veröffentlichen. Auch im Eingangsb
 ereich der Schule sind Aktionen geplant.
CATEGORIES:Allgemein,Global Entrepreneurship Week
LOCATION:WFO "Franz Kafka" Meran\, Rennweg 3\, Meran\, IT-39012\, Italien
GEO:46.671404;11.159349
X-APPLE-STRUCTURED-LOCATION;VALUE=URI;X-ADDRESS=Rennweg 3\, Meran\, IT-3901
 2\, Italien;X-APPLE-RADIUS=100;X-TITLE=WFO \"Franz Kafka\" Meran:geo:46.67
 1404,11.159349
END:VEVENT
BEGIN:VTIMEZONE
TZID:Europe/Berlin
X-LIC-LOCATION:Europe/Berlin
BEGIN:STANDARD
DTSTART:20251026T020000
TZOFFSETFROM:+0200
TZOFFSETTO:+0100
TZNAME:CET
END:STANDARD
END:VTIMEZONE
END:VCALENDAR