BEGIN:VCALENDAR
VERSION:2.0
PRODID:-//wp-events-plugin.com//7.2.3.1//EN
TZID:Europe/Berlin
X-WR-TIMEZONE:Europe/Berlin
BEGIN:VEVENT
UID:262@eesi-impulszentrum.at
DTSTART;TZID=Europe/Berlin:20181124T080000
DTEND;TZID=Europe/Berlin:20181124T113000
DTSTAMP:20181113T225443Z
URL:https://www.eesi-impulszentrum.at/events/tag-der-offenen-tuer/
SUMMARY:Tag der offenen Tür
DESCRIPTION:Am Tag der offenen Tür wird nicht nur die Schule allgemein vor
 gestellt\, sondern auch der Entrepreneurship Education Schwerpunkt.
CATEGORIES:Tag der offenen Tür
LOCATION:BHAK/BHAS Wiener Neustadt\, Ungargasse 29\, Wiener Neustadt\, 2700
 \, Österreich
GEO:47.812392;16.250143
X-APPLE-STRUCTURED-LOCATION;VALUE=URI;X-ADDRESS=Ungargasse 29\, Wiener Neus
 tadt\, 2700\, Österreich;X-APPLE-RADIUS=100;X-TITLE=BHAK/BHAS Wiener Neus
 tadt:geo:47.812392,16.250143
END:VEVENT
BEGIN:VTIMEZONE
TZID:Europe/Berlin
X-LIC-LOCATION:Europe/Berlin
BEGIN:STANDARD
DTSTART:20181028T020000
TZOFFSETFROM:+0200
TZOFFSETTO:+0100
TZNAME:CET
END:STANDARD
END:VTIMEZONE
END:VCALENDAR