BEGIN:VCALENDAR
VERSION:2.0
PRODID:-//wp-events-plugin.com//7.2.3.1//EN
TZID:Europe/Berlin
X-WR-TIMEZONE:Europe/Berlin
BEGIN:VEVENT
UID:561@eesi-impulszentrum.at
DTSTART;TZID=Europe/Berlin:20251121T130000
DTEND;TZID=Europe/Berlin:20251122T120000
DTSTAMP:20251222T101912Z
URL:https://www.eesi-impulszentrum.at/events/tag-der-offenen-tuer-5/
SUMMARY:Tag der offenen Tür
DESCRIPTION:Zwei Tage an denen sich die Schule ihren zukünftigen Schüler:
 innen präsentiert.\n\nDie Veranstaltung wird von den Klassenpat:innenen -
  Unternehmer:innen unterstützt und beim Absolvententreff werden Erinnerun
 gen ausgetauscht und neue Kontakte geknüpft.
CATEGORIES:Allgemein
LOCATION:BHAK Eisenerz\, Hieflauerstraße 89\, Eisenerz\, 8790\, Österreic
 h
GEO:47.560405;14.864678
X-APPLE-STRUCTURED-LOCATION;VALUE=URI;X-ADDRESS=Hieflauerstraße 89\, Eisen
 erz\, 8790\, Österreich;X-APPLE-RADIUS=100;X-TITLE=BHAK Eisenerz:geo:47.5
 60405,14.864678
END:VEVENT
BEGIN:VTIMEZONE
TZID:Europe/Berlin
X-LIC-LOCATION:Europe/Berlin
BEGIN:STANDARD
DTSTART:20251026T020000
TZOFFSETFROM:+0200
TZOFFSETTO:+0100
TZNAME:CET
END:STANDARD
END:VTIMEZONE
END:VCALENDAR