BEGIN:VCALENDAR
VERSION:2.0
PRODID:-//wp-events-plugin.com//7.2.3.1//EN
TZID:Europe/Berlin
X-WR-TIMEZONE:Europe/Berlin
BEGIN:VEVENT
UID:496@eesi-impulszentrum.at
DTSTART;TZID=Europe/Berlin:20241129T133000
DTEND;TZID=Europe/Berlin:20241129T174500
DTSTAMP:20241115T174643Z
URL:https://www.eesi-impulszentrum.at/events/tag-der-offenen-tuer-4/
SUMMARY:Tag der offenen Tür
DESCRIPTION:Wir freuen uns darauf interessierte Schüler*innen bei uns begr
 üßen zu dürfen\, um die Vielfalt unseres Angebots  darzustellen.
CATEGORIES:Allgemein
LOCATION:BHAK/BHAS Perg\, Dirnbergerstraße 21\, Perg\, 4320\, Österreich
GEO:48.244658;14.63578
X-APPLE-STRUCTURED-LOCATION;VALUE=URI;X-ADDRESS=Dirnbergerstraße 21\, Perg
 \, 4320\, Österreich;X-APPLE-RADIUS=100;X-TITLE=BHAK/BHAS Perg:geo:48.244
 658,14.63578
END:VEVENT
BEGIN:VTIMEZONE
TZID:Europe/Berlin
X-LIC-LOCATION:Europe/Berlin
BEGIN:STANDARD
DTSTART:20241027T020000
TZOFFSETFROM:+0200
TZOFFSETTO:+0100
TZNAME:CET
END:STANDARD
END:VTIMEZONE
END:VCALENDAR