BEGIN:VCALENDAR
VERSION:2.0
PRODID:-//wp-events-plugin.com//7.2.3.1//EN
TZID:Europe/Berlin
X-WR-TIMEZONE:Europe/Berlin
BEGIN:VEVENT
UID:452@eesi-impulszentrum.at
DTSTART;TZID=Europe/Berlin:20221130T130000
DTEND;TZID=Europe/Berlin:20231130T190000
DTSTAMP:20231127T070223Z
URL:https://www.eesi-impulszentrum.at/events/tag-der-offenen-tuer-3/
SUMMARY:Tag der offenen Tür
DESCRIPTION:Tag der offenen Tür\nVorstellung der HAK Weiz und der Besonder
 heiten der Ausbildung anhand folgender Stationen\, die auch die gelebte En
 trepreneurship-Education widerspiegelt:\n\n 	Entrepreneur:innen auf Reisen
 : Entrepreneur:innen haben etwas zu sagen! - Wir können das in 5 Sprache
 n\n 	Entrepreneur:innen beim Programmieren: Entrepreneur:innen haben Idee
 n! Wir können sie auch programmieren.\n 	Entrepreneur:innen beim Verkauf
 : Entrepreneur:innen gründen Unternehmen! Bei uns ist das Programm.\n 	Th
 eater HAKolade: Entrepreneur:innen sind mutig und kreativ! Überzeuge di
 ch selbst.\n 	Übungsfirma: Entrepreneur:innen in ihrem Unternehmen \n\nh
 ttps://hakweiz.at/tag-der-offenen-tur/
CATEGORIES:Tag der offenen Tür
LOCATION:BHAK/BHAS Weiz\, dr.-karl-widdmann-straße 40\, Weiz\, 8160\, Öst
 erreich
GEO:47.224591;15.62378
X-APPLE-STRUCTURED-LOCATION;VALUE=URI;X-ADDRESS=dr.-karl-widdmann-straße 4
 0\, Weiz\, 8160\, Österreich;X-APPLE-RADIUS=100;X-TITLE=BHAK/BHAS Weiz:ge
 o:47.224591,15.62378
END:VEVENT
BEGIN:VTIMEZONE
TZID:Europe/Berlin
X-LIC-LOCATION:Europe/Berlin
BEGIN:STANDARD
DTSTART:20221030T020000
TZOFFSETFROM:+0200
TZOFFSETTO:+0100
TZNAME:CET
END:STANDARD
BEGIN:DAYLIGHT
DTSTART:20230326T030000
TZOFFSETFROM:+0100
TZOFFSETTO:+0200
TZNAME:CEST
END:DAYLIGHT
BEGIN:STANDARD
DTSTART:20231029T020000
TZOFFSETFROM:+0200
TZOFFSETTO:+0100
TZNAME:CET
END:STANDARD
END:VTIMEZONE
END:VCALENDAR