BEGIN:VCALENDAR
VERSION:2.0
PRODID:-//wp-events-plugin.com//7.2.3.1//EN
TZID:Europe/Berlin
X-WR-TIMEZONE:Europe/Berlin
BEGIN:VEVENT
UID:409@eesi-impulszentrum.at
DTSTART;TZID=Europe/Berlin:20221201T130000
DTEND;TZID=Europe/Berlin:20221201T190000
DTSTAMP:20221101T083411Z
URL:https://www.eesi-impulszentrum.at/events/tag-der-offenen-tuer-2/
SUMMARY:Tag der offenen Tür
DESCRIPTION:Tag der offenen Tür\n\nAm Tag der offenen Tür wird das Konzep
 t und die diversen Projekte im Rahmen der Entrepreneurship Education erlä
 utert. Außerdem präsentieren unsere Junior Companies ihre Produkte\, sch
 ildern Interessierten die anfallenden Aufgaben\, Herausforderungen und die
  entstehenden Lerneffekte. Ebenso werden im Betriebswirtschaftlichen Zentr
 um die Besonderheiten des Übungsfirmenkonzepts erklärt.\n\nhttps://hakwe
 iz.at/tag-der-offenen-tur/
CATEGORIES:Tag der offenen Tür
LOCATION:BHAK/BHAS Weiz\, dr.-karl-widdmann-straße 40\, Weiz\, 8160\, Öst
 erreich
GEO:47.224591;15.62378
X-APPLE-STRUCTURED-LOCATION;VALUE=URI;X-ADDRESS=dr.-karl-widdmann-straße 4
 0\, Weiz\, 8160\, Österreich;X-APPLE-RADIUS=100;X-TITLE=BHAK/BHAS Weiz:ge
 o:47.224591,15.62378
END:VEVENT
BEGIN:VTIMEZONE
TZID:Europe/Berlin
X-LIC-LOCATION:Europe/Berlin
BEGIN:STANDARD
DTSTART:20221030T020000
TZOFFSETFROM:+0200
TZOFFSETTO:+0100
TZNAME:CET
END:STANDARD
END:VTIMEZONE
END:VCALENDAR