BEGIN:VCALENDAR
VERSION:2.0
PRODID:-//wp-events-plugin.com//7.2.3.1//EN
TZID:Europe/Berlin
X-WR-TIMEZONE:Europe/Berlin
BEGIN:VEVENT
UID:228@eesi-impulszentrum.at
DTSTART;TZID=Europe/Berlin;VALUE=DATE:20181024
DTEND;TZID=Europe/Berlin;VALUE=DATE:20181026
DTSTAMP:20180915T161145Z
URL:https://www.eesi-impulszentrum.at/events/summit-2018/
SUMMARY:Summit 2018
DESCRIPTION:
CATEGORIES:Allgemein,Exkursion,Global Entrepreneurship
 Week,Seminar,Workshop
LOCATION:Haus der Industrie\, Schwarzenbergplatz 4\, Wien\, 1030\, Österre
 ich
GEO:48.1997559;16.375778800000035
X-APPLE-STRUCTURED-LOCATION;VALUE=URI;X-ADDRESS=Schwarzenbergplatz 4\, Wien
 \, 1030\, Österreich;X-APPLE-RADIUS=100;X-TITLE=Haus der Industrie:geo:48
 .1997559,16.375778800000035
END:VEVENT
BEGIN:VTIMEZONE
TZID:Europe/Berlin
X-LIC-LOCATION:Europe/Berlin
BEGIN:DAYLIGHT
DTSTART:20180325T030000
TZOFFSETFROM:+0100
TZOFFSETTO:+0200
TZNAME:CEST
END:DAYLIGHT
END:VTIMEZONE
END:VCALENDAR