BEGIN:VCALENDAR
VERSION:2.0
PRODID:-//wp-events-plugin.com//7.2.3.1//EN
TZID:Europe/Berlin
X-WR-TIMEZONE:Europe/Berlin
BEGIN:VEVENT
UID:295@eesi-impulszentrum.at
DTSTART;TZID=Europe/Berlin:20181114T090000
DTEND;TZID=Europe/Berlin:20181114T130000
DTSTAMP:20190928T114638Z
URL:https://www.eesi-impulszentrum.at/events/styrian-challenge/
SUMMARY:Styrian Challenge
DESCRIPTION:Unter dem Motto „Systematisches Innovieren an steirischen Han
 delsakademien“ findet diese jährliche Challenge statt. Dabei erarbeiten
  die SchülerInnen in jeweils 4 Halbtagen Ideen für 4 Fragestellungen von
  realen Unternehmen. Diese Initiative hat zum Ziel den SchülerInnen praxi
 snah einen Einblick in die Themen Unternehmertum\, Innovation und Kreativi
 tät zu geben und ihre Methodenkompetenz zu erweitern.\n\n&nbsp\;
CATEGORIES:Global Entrepreneurship Week
LOCATION:BHAK Eisenerz\, Hieflauerstraße 89\, Eisenerz\, 8790\, Österreic
 h
GEO:47.560405;14.864678
X-APPLE-STRUCTURED-LOCATION;VALUE=URI;X-ADDRESS=Hieflauerstraße 89\, Eisen
 erz\, 8790\, Österreich;X-APPLE-RADIUS=100;X-TITLE=BHAK Eisenerz:geo:47.5
 60405,14.864678
END:VEVENT
BEGIN:VTIMEZONE
TZID:Europe/Berlin
X-LIC-LOCATION:Europe/Berlin
BEGIN:STANDARD
DTSTART:20181028T020000
TZOFFSETFROM:+0200
TZOFFSETTO:+0100
TZNAME:CET
END:STANDARD
END:VTIMEZONE
END:VCALENDAR