BEGIN:VCALENDAR
VERSION:2.0
PRODID:-//wp-events-plugin.com//7.2.3.1//EN
TZID:Europe/Berlin
X-WR-TIMEZONE:Europe/Berlin
BEGIN:VEVENT
UID:296@eesi-impulszentrum.at
DTSTART;TZID=Europe/Berlin:20181121T000000
DTEND;TZID=Europe/Berlin:20181121T000000
DTSTAMP:20190928T120444Z
URL:https://www.eesi-impulszentrum.at/events/styrian-challenge-pitch-siege
 rehrung/
SUMMARY:Styrian Challenge - Pitch - Siegerehrung
DESCRIPTION:Erstmalig findet eine Abschlussveranstaltung mit Siegerehrung i
 n Graz (INNOLAB) statt. Dabei haben die besten Teams die Möglichkeit\, ih
 re Ideen weiterzuentwickeln und diese vor einer Jury zu pitchen.\n\nEine G
 ruppe der HAK Eisenerz zählte zu den besten und durfte in Graz seine Idee
  präsentieren und gemeinsam mit dem Unternehmen\, das die Problemstellung
  anregte\, weiterentwickeln. Es konnte Platz zwei erreicht werden.
CATEGORIES:Global Entrepreneurship Week
END:VEVENT
BEGIN:VTIMEZONE
TZID:Europe/Berlin
X-LIC-LOCATION:Europe/Berlin
BEGIN:STANDARD
DTSTART:20181028T020000
TZOFFSETFROM:+0200
TZOFFSETTO:+0100
TZNAME:CET
END:STANDARD
END:VTIMEZONE
END:VCALENDAR