BEGIN:VCALENDAR
VERSION:2.0
PRODID:-//wp-events-plugin.com//7.2.3.1//EN
TZID:Europe/Berlin
X-WR-TIMEZONE:Europe/Berlin
BEGIN:VEVENT
UID:247@eesi-impulszentrum.at
DTSTART;TZID=Europe/Berlin:20181114T100000
DTEND;TZID=Europe/Berlin:20181114T133000
DTSTAMP:20181009T100035Z
URL:https://www.eesi-impulszentrum.at/events/styrian-challange/
SUMMARY:Styrian Challange Eisenerz
DESCRIPTION:Die SchülerInnen erarbeiten im Rahmen der Styrian Challenge in
  jeweils dreistündigen Workshops Lösungen für unterschiedliche reale Pr
 oblemstellungen von Unternehmen. Die Lösungsvorschläge werden von einer 
 externen Jury bewertet und die Sieger der jeweiligen Halbtage prämiert.\n
 \nBegleitet werden sie dabei von erfahrenen InnovationsmanagerInnen aus de
 m INNOLAB und der Studienrichtung Innovationsmanagement.
CATEGORIES:Global Entrepreneurship Week
LOCATION:BHAK Eisenerz\, Hieflauerstraße 89\, Eisenerz\, 8790\, Österreic
 h
GEO:47.560405;14.864678
X-APPLE-STRUCTURED-LOCATION;VALUE=URI;X-ADDRESS=Hieflauerstraße 89\, Eisen
 erz\, 8790\, Österreich;X-APPLE-RADIUS=100;X-TITLE=BHAK Eisenerz:geo:47.5
 60405,14.864678
END:VEVENT
BEGIN:VTIMEZONE
TZID:Europe/Berlin
X-LIC-LOCATION:Europe/Berlin
BEGIN:STANDARD
DTSTART:20181028T020000
TZOFFSETFROM:+0200
TZOFFSETTO:+0100
TZNAME:CET
END:STANDARD
END:VTIMEZONE
END:VCALENDAR