BEGIN:VCALENDAR
VERSION:2.0
PRODID:-//wp-events-plugin.com//7.2.3.1//EN
TZID:Europe/Berlin
X-WR-TIMEZONE:Europe/Berlin
BEGIN:VEVENT
UID:320@eesi-impulszentrum.at
DTSTART;TZID=Europe/Berlin:20191126T180000
DTEND;TZID=Europe/Berlin:20191126T203000
DTSTAMP:20191115T094414Z
URL:https://www.eesi-impulszentrum.at/events/startup-night-hak13/
SUMMARY:Startup-Night HAK13
DESCRIPTION:\n\nEntrepreneurship Night\n\n\n\n\nStart-up Night “Nicht gru
 ndlos gründen”\n\nIn entspannter Atmosphäre mit Jungunternehmer/innen 
 über Chancen\, Vorteile\, Risiken und Nachteile einer Unternehmensgründu
 ng diskutieren und Erfahrungen austauschen.\n\nDi 26.11.2019 18:00 - 20:30
 \nSchumpeter BHAK/BHAS Wien 13\, Maygasse 43\n\n
CATEGORIES:Allgemein
LOCATION:Maygasse Business Academy BHAK/BHAS Wien 13\, Maygasse 43\, Wien\,
  1130\, Österreich
GEO:48.164486;16.281488
X-APPLE-STRUCTURED-LOCATION;VALUE=URI;X-ADDRESS=Maygasse 43\, Wien\, 1130\,
  Österreich;X-APPLE-RADIUS=100;X-TITLE=Maygasse Business Academy BHAK/BHA
 S Wien 13:geo:48.164486,16.281488
END:VEVENT
BEGIN:VTIMEZONE
TZID:Europe/Berlin
X-LIC-LOCATION:Europe/Berlin
BEGIN:STANDARD
DTSTART:20191027T020000
TZOFFSETFROM:+0200
TZOFFSETTO:+0100
TZNAME:CET
END:STANDARD
END:VTIMEZONE
END:VCALENDAR