BEGIN:VCALENDAR
VERSION:2.0
PRODID:-//wp-events-plugin.com//7.2.3.1//EN
TZID:Europe/Berlin
X-WR-TIMEZONE:Europe/Berlin
BEGIN:VEVENT
UID:466@eesi-impulszentrum.at
DTSTART;TZID=Europe/Berlin:20240527T090000
DTEND;TZID=Europe/Berlin:20240527T110000
DTSTAMP:20240422T101026Z
URL:https://www.eesi-impulszentrum.at/events/staerkenfest-wien/
SUMMARY:Stärkenfest Wien
DESCRIPTION:\n\nIn Wien\, Niederösterreich und in Salzburg organisieren wi
 r heuer erstmals Stärken-Feste\, wo wir die stärkenfokussierte Arbeit un
 serer Pilotschulen aus dem Projekt "JEDES KIND STÄRKEN – ganzheitlich &
 amp\; digital. Ein Forschungsprojekt in 3 Bundesländern" vor den Vorhang
  holen: Volksschulkinder zeigen\, welche Stärken sie in den vergangenen M
 onaten an sich entdeckt haben. Wir laden auch herzlichen ein\, dabei zu se
 in!\n\n\n\n\nMo.\, 27.05. im Rathaus in Wien\, 9.00-11.00 Uhr\nAnmeldung 
 unter: https://forms.gle/b5np2nDX3sgL8EKP9\n\n\n\n\nMi.\, 12.06. an der 
 PH Salzburg von 10.00-13.00 Uhr\nAnmeldung unter: https://forms.gle/vPLv
 vfywVNBHTUyM8 \n\n\n\n\nMi.\, 19.06. an der KPH Wien/Krems\, Campus Mitt
 erau in Krems von 10.00-12.00 Uhr\nAnmeldung unter: https://forms.gle/yk
 6TKz4UYhBSLDXQ9\n\n
CATEGORIES:Allgemein
LOCATION:Rathaus Wien\, Friedrich-Schmidt-Platz 1\, Wien\, 1010\, Österrei
 ch
GEO:48.210944;16.356508
X-APPLE-STRUCTURED-LOCATION;VALUE=URI;X-ADDRESS=Friedrich-Schmidt-Platz 1\,
  Wien\, 1010\, Österreich;X-APPLE-RADIUS=100;X-TITLE=Rathaus Wien:geo:48.
 210944,16.356508
END:VEVENT
BEGIN:VTIMEZONE
TZID:Europe/Berlin
X-LIC-LOCATION:Europe/Berlin
BEGIN:DAYLIGHT
DTSTART:20240331T030000
TZOFFSETFROM:+0100
TZOFFSETTO:+0200
TZNAME:CEST
END:DAYLIGHT
END:VTIMEZONE
END:VCALENDAR