BEGIN:VCALENDAR
VERSION:2.0
PRODID:-//wp-events-plugin.com//7.2.3.1//EN
TZID:Europe/Berlin
X-WR-TIMEZONE:Europe/Berlin
BEGIN:VEVENT
UID:288@eesi-impulszentrum.at
DTSTART;TZID=Europe/Berlin:20200528T150000
DTEND;TZID=Europe/Berlin:20200529T170000
DTSTAMP:20200112T172116Z
URL:https://www.eesi-impulszentrum.at/events/staatsmeisterschaften-schuele
 r-innen-debattieren/
SUMMARY:Staatsmeisterschaften: Schüler/innen debattieren
DESCRIPTION:Zukunft der Arbeit\n\nNr. 8740.000.036\n\nTGA Wien\n\nAnmeldung
  über die KPH Wien/Krems\nNachmeldung: claudia.muell@kphvie.ac.at (bitte 
 mit dem o.k. der Direktion)
CATEGORIES:Debattierclub,Wettbewerb
LOCATION:TGA Wien\, Plößlgasse 13\, Wien\, 1040\, Österreich
GEO:48.1938497;16.37499379999997
X-APPLE-STRUCTURED-LOCATION;VALUE=URI;X-ADDRESS=Plößlgasse 13\, Wien\, 10
 40\, Österreich;X-APPLE-RADIUS=100;X-TITLE=TGA Wien:geo:48.1938497,16.374
 99379999997
END:VEVENT
BEGIN:VTIMEZONE
TZID:Europe/Berlin
X-LIC-LOCATION:Europe/Berlin
BEGIN:DAYLIGHT
DTSTART:20200329T030000
TZOFFSETFROM:+0100
TZOFFSETTO:+0200
TZNAME:CEST
END:DAYLIGHT
END:VTIMEZONE
END:VCALENDAR