BEGIN:VCALENDAR
VERSION:2.0
PRODID:-//wp-events-plugin.com//7.2.3.1//EN
TZID:Europe/Berlin
X-WR-TIMEZONE:Europe/Berlin
BEGIN:VEVENT
UID:356@eesi-impulszentrum.at
DTSTART;TZID=Europe/Berlin:20220523T080000
DTEND;TZID=Europe/Berlin:20220523T170000
DTSTAMP:20220516T174921Z
URL:https://www.eesi-impulszentrum.at/events/staatsmeisterschaft-schueleri
 nnen-debattieren-2/
SUMMARY:Staatsmeisterschaft Schüler*innen debattieren
DESCRIPTION:Brauchen wir eine andere wirtschaftliche Bildung?\nImpulsspeake
 r*innen: Christiane Hintermann und Herbert Pichler\, Universität Wien
CATEGORIES:Allgemein,Wettbewerb
LOCATION:BIZ\, Theresianumgasse 16-18\, Wien\, 1040\, Österreich
GEO:48.192409;16.37562
X-APPLE-STRUCTURED-LOCATION;VALUE=URI;X-ADDRESS=Theresianumgasse 16-18\, Wi
 en\, 1040\, Österreich;X-APPLE-RADIUS=100;X-TITLE=BIZ:geo:48.192409,16.37
 562
END:VEVENT
BEGIN:VTIMEZONE
TZID:Europe/Berlin
X-LIC-LOCATION:Europe/Berlin
BEGIN:DAYLIGHT
DTSTART:20220327T030000
TZOFFSETFROM:+0100
TZOFFSETTO:+0200
TZNAME:CEST
END:DAYLIGHT
END:VTIMEZONE
END:VCALENDAR