BEGIN:VCALENDAR
VERSION:2.0
PRODID:-//wp-events-plugin.com//7.2.3.1//EN
TZID:Europe/Berlin
X-WR-TIMEZONE:Europe/Berlin
BEGIN:VEVENT
UID:536@eesi-impulszentrum.at
DTSTART;TZID=Europe/Berlin:20260602T080000
DTEND;TZID=Europe/Berlin:20260602T170000
DTSTAMP:20250612T112046Z
URL:https://www.eesi-impulszentrum.at/events/staatsmeisterschaft-debattier
 en-2026/
SUMMARY:Staatsmeisterschaft Debattieren 2026
DESCRIPTION:Sind wir bereit für die Kreislaufwirtschaft?\n\nDie Kreislaufw
 irtschaft umfasst die Herausforderungen der Transformation von der lineare
 n zur zirkulären Wertschöpfung. Jedes in einem Produkt verwendete Materi
 al soll so lange wie möglich seine Kreise ziehen und herkömmlicher Müll
  zu einer neuen Ressource werden. Das führt zu neuen Innovationen und ein
 em nachhaltigeren Wirtschaftssystem.. Wie kann dies in der Praxis umgesetz
 t werden?
CATEGORIES:Debattierclub,Wettbewerb
LOCATION:BIZ\, Theresianumgasse 16-18\, Wien\, 1040\, Österreich
GEO:48.192409;16.37562
X-APPLE-STRUCTURED-LOCATION;VALUE=URI;X-ADDRESS=Theresianumgasse 16-18\, Wi
 en\, 1040\, Österreich;X-APPLE-RADIUS=100;X-TITLE=BIZ:geo:48.192409,16.37
 562
END:VEVENT
BEGIN:VTIMEZONE
TZID:Europe/Berlin
X-LIC-LOCATION:Europe/Berlin
BEGIN:DAYLIGHT
DTSTART:20260329T030000
TZOFFSETFROM:+0100
TZOFFSETTO:+0200
TZNAME:CEST
END:DAYLIGHT
END:VTIMEZONE
END:VCALENDAR