BEGIN:VCALENDAR
VERSION:2.0
PRODID:-//wp-events-plugin.com//7.2.3.1//EN
TZID:Europe/Berlin
X-WR-TIMEZONE:Europe/Berlin
BEGIN:VEVENT
UID:232@eesi-impulszentrum.at
DTSTART;TZID=Europe/Berlin:20180412T090000
DTEND;TZID=Europe/Berlin:20180412T113000
DTSTAMP:20180308T160733Z
URL:https://www.eesi-impulszentrum.at/events/schlussveranstaltung-des-vora
 rlberger-bank-austria-businessplan-wettbewerbs/
SUMMARY:Schlussveranstaltung des Vorarlberger Bank Austria Businessplan Wet
 tbewerbs
DESCRIPTION:
CATEGORIES:Wettbewerb
LOCATION:Wirtschaftskammer Vorarlberg\, Wichnergasse\, Feldkirch\, Österre
 ich\, 6800\, Österreich
GEO:47.2385413;9.60083510000004
X-APPLE-STRUCTURED-LOCATION;VALUE=URI;X-ADDRESS=Wichnergasse\, Feldkirch\, 
 Österreich\, 6800\, Österreich;X-APPLE-RADIUS=100;X-TITLE=Wirtschaftskam
 mer Vorarlberg:geo:47.2385413,9.60083510000004
END:VEVENT
BEGIN:VTIMEZONE
TZID:Europe/Berlin
X-LIC-LOCATION:Europe/Berlin
BEGIN:DAYLIGHT
DTSTART:20180325T030000
TZOFFSETFROM:+0100
TZOFFSETTO:+0200
TZNAME:CEST
END:DAYLIGHT
END:VTIMEZONE
END:VCALENDAR