BEGIN:VCALENDAR
VERSION:2.0
PRODID:-//wp-events-plugin.com//7.2.3.1//EN
TZID:Europe/Berlin
X-WR-TIMEZONE:Europe/Berlin
BEGIN:VEVENT
UID:326@eesi-impulszentrum.at
DTSTART;TZID=Europe/Berlin:20200428T090000
DTEND;TZID=Europe/Berlin:20200428T120000
DTSTAMP:20200408T150756Z
URL:https://www.eesi-impulszentrum.at/events/schlussveranstaltung-bank-aus
 tria-businessplan-wettbewerb-uebungsfirmen-zertifikate/
SUMMARY:Schlussveranstaltung Bank Austria Businessplan-Wettbewerb + Übungs
 firmen-Zertifikate
DESCRIPTION:ABGESAGT! Siegerehrung des Bank Austria Businessplan Wettbewerb
 s &amp\; Zertifikatsverleihung der Qualitätsmarke Übungsfirma für das 
 Bundesland Vorarlberg unter dem Motto:\n\n"Freude lässt sich nur voll aus
 kosten\, wenn sich anderer mitfreut" (Marc Twain)\n\nIm ersten Teil wollen
  wir – wie jedes Jahr – die Leistungen der Schülerinnen und Schüler 
 sowie deren Betreuerinnen und Betreuer\, die sich beim diesjährigen BANK 
 AUSTRIA BUSINESSPLAN WETTBEWERB besonders engagiert haben\, im Rahmen eine
 r offiziellen Feier honorieren.\n\nIm zweiten Teil werden die Zertifikate 
 für die Teilnahme am ÜBUNGSFIRMEN-QUALITÄTS-AUDIT verliehen.\n\nWir fre
 uen uns\, wenn Sie bei unserer Feier mit dabei sind!\n\nAnnette Heinrich\,
  Landes ARGE Übungsfirmen\n\nMarkus Hämmerle\, Entrepreneurship-Koordina
 tor und Landes-ARGE Betriebswirtschaft\n\nDie Veranstaltung findet im Fest
 saal der Wirtschaftskammer Vorarlberg in Feldkirch im 1. Stock statt.
CATEGORIES:Wettbewerb
LOCATION:Wirtschaftskammer Vorarlberg\, Wichnergasse\, Feldkirch\, Österre
 ich\, 6800\, Österreich
GEO:47.2385413;9.60083510000004
X-APPLE-STRUCTURED-LOCATION;VALUE=URI;X-ADDRESS=Wichnergasse\, Feldkirch\, 
 Österreich\, 6800\, Österreich;X-APPLE-RADIUS=100;X-TITLE=Wirtschaftskam
 mer Vorarlberg:geo:47.2385413,9.60083510000004
END:VEVENT
BEGIN:VTIMEZONE
TZID:Europe/Berlin
X-LIC-LOCATION:Europe/Berlin
BEGIN:DAYLIGHT
DTSTART:20200329T030000
TZOFFSETFROM:+0100
TZOFFSETTO:+0200
TZNAME:CEST
END:DAYLIGHT
END:VTIMEZONE
END:VCALENDAR