BEGIN:VCALENDAR
VERSION:2.0
PRODID:-//wp-events-plugin.com//7.2.3.1//EN
TZID:Europe/Berlin
X-WR-TIMEZONE:Europe/Berlin
BEGIN:VEVENT
UID:390@eesi-impulszentrum.at
DTSTART;TZID=Europe/Berlin:20220622T144500
DTEND;TZID=Europe/Berlin:20220622T180000
DTSTAMP:20220518T074329Z
URL:https://www.eesi-impulszentrum.at/events/schilf-youthstart-challenges-
 2/
SUMMARY:SCHILF Youthstart-Challenges
DESCRIPTION:Online-Veranstaltung für die HAK Deutschlandsberg
CATEGORIES:SchilF
END:VEVENT
BEGIN:VTIMEZONE
TZID:Europe/Berlin
X-LIC-LOCATION:Europe/Berlin
BEGIN:DAYLIGHT
DTSTART:20220327T030000
TZOFFSETFROM:+0100
TZOFFSETTO:+0200
TZNAME:CEST
END:DAYLIGHT
END:VTIMEZONE
END:VCALENDAR