BEGIN:VCALENDAR
VERSION:2.0
PRODID:-//wp-events-plugin.com//7.2.3.1//EN
TZID:Europe/Berlin
X-WR-TIMEZONE:Europe/Berlin
BEGIN:VEVENT
UID:208@eesi-impulszentrum.at
DTSTART;TZID=Europe/Berlin:20170523T160000
DTEND;TZID=Europe/Berlin:20170523T180000
DTSTAMP:20171027T145641Z
URL:https://www.eesi-impulszentrum.at/events/schilf-fuer-neulehrerentrepre
 neurship-basis/
SUMMARY:SchilF für Neulehrer/Entrepreneurship-Basis
DESCRIPTION:Neulehrer/innen-Basis-Informationen zur Entrepreneurship-Educat
 ion und Umsetzung im eigenen Unterricht\n(im Rahmen der Schulzertifizierun
 g). Leitung: MMag. Beate Tötterström
CATEGORIES:SchilF
LOCATION:BHAK/BHAS Wien 22\, Polgarstraße 24\, Wien\, 1220\, Österreich
GEO:48.233383;16.453496
X-APPLE-STRUCTURED-LOCATION;VALUE=URI;X-ADDRESS=Polgarstraße 24\, Wien\, 1
 220\, Österreich;X-APPLE-RADIUS=100;X-TITLE=BHAK/BHAS Wien 22:geo:48.2333
 83,16.453496
END:VEVENT
BEGIN:VTIMEZONE
TZID:Europe/Berlin
X-LIC-LOCATION:Europe/Berlin
BEGIN:DAYLIGHT
DTSTART:20170326T030000
TZOFFSETFROM:+0100
TZOFFSETTO:+0200
TZNAME:CEST
END:DAYLIGHT
END:VTIMEZONE
END:VCALENDAR