BEGIN:VCALENDAR
VERSION:2.0
PRODID:-//wp-events-plugin.com//7.2.3.1//EN
TZID:Europe/Berlin
X-WR-TIMEZONE:Europe/Berlin
BEGIN:VEVENT
UID:218@eesi-impulszentrum.at
DTSTART;TZID=Europe/Berlin:20171012T130000
DTEND;TZID=Europe/Berlin:20171012T170000
DTSTAMP:20171027T142552Z
URL:https://www.eesi-impulszentrum.at/events/schilf-an-der-bhakbhas-obernd
 orf/
SUMMARY:SchilF an der BHAK/BHAS Oberndorf
DESCRIPTION:Basis-SchilF\, Referentinnen: Mag. Erika Hammerl\, MMag. Beate 
 Tötterström (eesi-Team Wien)\, Mag. Elke Austerhuber (Landeskoordinatori
 n EE für Salzburg)\n\nhttp://www.hak-oberndorf.salzburg.at
CATEGORIES:SchilF
LOCATION:BHAK/BHAS Oberndorf\, Watzmannstraße 39\, Oberndorf\, Salzburg\, 
 5110\, Salzburg\, Österreich
GEO:47.941601;12.940752
X-APPLE-STRUCTURED-LOCATION;VALUE=URI;X-ADDRESS=Watzmannstraße 39\, Obernd
 orf\, Salzburg\, 5110\, Salzburg\, Österreich;X-APPLE-RADIUS=100;X-TITLE=
 BHAK/BHAS Oberndorf:geo:47.941601,12.940752
END:VEVENT
BEGIN:VTIMEZONE
TZID:Europe/Berlin
X-LIC-LOCATION:Europe/Berlin
BEGIN:DAYLIGHT
DTSTART:20170326T030000
TZOFFSETFROM:+0100
TZOFFSETTO:+0200
TZNAME:CEST
END:DAYLIGHT
END:VTIMEZONE
END:VCALENDAR