BEGIN:VCALENDAR
VERSION:2.0
PRODID:-//wp-events-plugin.com//7.2.3.1//EN
TZID:Europe/Berlin
X-WR-TIMEZONE:Europe/Berlin
BEGIN:VEVENT
UID:299@eesi-impulszentrum.at
DTSTART;TZID=Europe/Berlin:20190924T090000
DTEND;TZID=Europe/Berlin:20190924T120000
DTSTAMP:20190928T122345Z
URL:https://www.eesi-impulszentrum.at/events/recruiting-workshop-2/
SUMMARY:Recruiting Workshop
DESCRIPTION:In Zusammenarbeit mit der Sparkasse Steiermark werden die Schü
 lerInnen der 5. HAK auf ein bevorstehendes Recruiting vorbereitet und erha
 lten dabei Praxistipps für erfolgreiche Bewerbungen.
CATEGORIES:Workshop
LOCATION:BHAK Eisenerz\, Hieflauerstraße 89\, Eisenerz\, 8790\, Österreic
 h
GEO:47.560405;14.864678
X-APPLE-STRUCTURED-LOCATION;VALUE=URI;X-ADDRESS=Hieflauerstraße 89\, Eisen
 erz\, 8790\, Österreich;X-APPLE-RADIUS=100;X-TITLE=BHAK Eisenerz:geo:47.5
 60405,14.864678
END:VEVENT
BEGIN:VTIMEZONE
TZID:Europe/Berlin
X-LIC-LOCATION:Europe/Berlin
BEGIN:DAYLIGHT
DTSTART:20190331T030000
TZOFFSETFROM:+0100
TZOFFSETTO:+0200
TZNAME:CEST
END:DAYLIGHT
END:VTIMEZONE
END:VCALENDAR