BEGIN:VCALENDAR
VERSION:2.0
PRODID:-//wp-events-plugin.com//7.2.3.1//EN
TZID:Europe/Berlin
X-WR-TIMEZONE:Europe/Berlin
BEGIN:VEVENT
UID:554@eesi-impulszentrum.at
DTSTART;TZID=Europe/Berlin;VALUE=DATE:20251114
DTEND;TZID=Europe/Berlin;VALUE=DATE:20251116
DTSTAMP:20251119T152955Z
URL:https://www.eesi-impulszentrum.at/events/praesentationen-zu-den-entrep
 reneurship-education-aktivitaeten-in-der-hak-has-ybbs/
SUMMARY:Präsentationen zu den Entrepreneurship Education Aktivitäten in d
 er HAK/HAS Ybbs
DESCRIPTION:
CATEGORIES:Tag der offenen Tür
LOCATION:HAK/HAS der Stadtgemeinde Ybbs an der Donau\, Schulring 1\, Ybbs a
 n der Donau\, 3370\, Österreich
GEO:48.177148;15.081702
X-APPLE-STRUCTURED-LOCATION;VALUE=URI;X-ADDRESS=Schulring 1\, Ybbs an der D
 onau\, 3370\, Österreich;X-APPLE-RADIUS=100;X-TITLE=HAK/HAS der Stadtgeme
 inde Ybbs an der Donau:geo:48.177148,15.081702
END:VEVENT
BEGIN:VTIMEZONE
TZID:Europe/Berlin
X-LIC-LOCATION:Europe/Berlin
BEGIN:STANDARD
DTSTART:20251026T020000
TZOFFSETFROM:+0200
TZOFFSETTO:+0100
TZNAME:CET
END:STANDARD
END:VTIMEZONE
END:VCALENDAR