BEGIN:VCALENDAR
VERSION:2.0
PRODID:-//wp-events-plugin.com//7.2.3.1//EN
TZID:Europe/Berlin
X-WR-TIMEZONE:Europe/Berlin
BEGIN:VEVENT
UID:213@eesi-impulszentrum.at
DTSTART;TZID=Europe/Berlin:20171117T183000
DTEND;TZID=Europe/Berlin:20171117T203000
DTSTAMP:20201123T220250Z
URL:https://www.eesi-impulszentrum.at/events/politik-und-demokratie-im-int
 ernet-chancen-und-gefahren/
SUMMARY:Politik und Demokratie im Internet - Chancen und Gefahren
DESCRIPTION:Vortrag: Ingrid Brodnig\, Netzexpertin und Journalistin\,\nAuto
 rin von "Hass im Netz" und "Lügen im Netz".\n\nWorkshop: "Wie kann das In
 ternet zur Stärkung der Demokratie beitragen?"\n\nSchlussdiskussion mit M
 ag. Johannes Selinger\, Obmann WVI 2020.\n\nIdeal für SchülerInnen (nich
 t nur des Zweiges "Digital Business")\, UnternehmerInnen und alle Interess
 ierte\, denen die Zukunft des Weinviertels ein Anliegen ist.
CATEGORIES:Global Entrepreneurship Week
LOCATION:BHAK/BHAS Mistelbach\, Brennerweg 8\, Mistelbach\, 2130\, Österre
 ich
GEO:48.571182;16.5653
X-APPLE-STRUCTURED-LOCATION;VALUE=URI;X-ADDRESS=Brennerweg 8\, Mistelbach\,
  2130\, Österreich;X-APPLE-RADIUS=100;X-TITLE=BHAK/BHAS Mistelbach:geo:48
 .571182,16.5653
END:VEVENT
BEGIN:VTIMEZONE
TZID:Europe/Berlin
X-LIC-LOCATION:Europe/Berlin
BEGIN:STANDARD
DTSTART:20171029T020000
TZOFFSETFROM:+0200
TZOFFSETTO:+0100
TZNAME:CET
END:STANDARD
END:VTIMEZONE
END:VCALENDAR