BEGIN:VCALENDAR
VERSION:2.0
PRODID:-//wp-events-plugin.com//7.2.3.1//EN
TZID:Europe/Berlin
X-WR-TIMEZONE:Europe/Berlin
BEGIN:VEVENT
UID:405@eesi-impulszentrum.at
DTSTART;TZID=Europe/Berlin:20221111T090000
DTEND;TZID=Europe/Berlin:20221117T100000
DTSTAMP:20221019T143035Z
URL:https://www.eesi-impulszentrum.at/events/orientierungsworkshops-fuer-5
 -klassen/
SUMMARY:Orientierungsworkshops für 5. Klassen
DESCRIPTION:Frau Brenn vom Amt für Ausbildung und Berufsberatung hält fü
 r alle Schüler*innen der 5. Klassen diesen 1-stündigen Workshop zum Them
 a "Orientierung".
CATEGORIES:Workshop
LOCATION:WFO "Franz Kafka" Meran\, Rennweg 3\, Meran\, IT-39012\, Italien
GEO:46.671404;11.159349
X-APPLE-STRUCTURED-LOCATION;VALUE=URI;X-ADDRESS=Rennweg 3\, Meran\, IT-3901
 2\, Italien;X-APPLE-RADIUS=100;X-TITLE=WFO \"Franz Kafka\" Meran:geo:46.67
 1404,11.159349
END:VEVENT
BEGIN:VTIMEZONE
TZID:Europe/Berlin
X-LIC-LOCATION:Europe/Berlin
BEGIN:STANDARD
DTSTART:20221030T020000
TZOFFSETFROM:+0200
TZOFFSETTO:+0100
TZNAME:CET
END:STANDARD
END:VTIMEZONE
END:VCALENDAR