BEGIN:VCALENDAR
VERSION:2.0
PRODID:-//wp-events-plugin.com//7.2.3.1//EN
TZID:Europe/Berlin
X-WR-TIMEZONE:Europe/Berlin
BEGIN:VEVENT
UID:559@eesi-impulszentrum.at
DTSTART;TZID=Europe/Berlin:20260123T140000
DTEND;TZID=Europe/Berlin:20260123T180000
DTSTAMP:20260122T070454Z
URL:https://www.eesi-impulszentrum.at/events/open-house/
SUMMARY:Open House
DESCRIPTION:
CATEGORIES:Tag der offenen Tür
LOCATION:Die Schrödinger HLW Graz\, Schrödinger Str. 5\, Graz\, 8020\, Ö
 sterreich
GEO:47.078813;15.420859
X-APPLE-STRUCTURED-LOCATION;VALUE=URI;X-ADDRESS=Schrödinger Str. 5\, Graz\
 , 8020\, Österreich;X-APPLE-RADIUS=100;X-TITLE=Die Schrödinger HLW Graz:
 geo:47.078813,15.420859
END:VEVENT
BEGIN:VTIMEZONE
TZID:Europe/Berlin
X-LIC-LOCATION:Europe/Berlin
BEGIN:STANDARD
DTSTART:20251026T020000
TZOFFSETFROM:+0200
TZOFFSETTO:+0100
TZNAME:CET
END:STANDARD
END:VTIMEZONE
END:VCALENDAR