BEGIN:VCALENDAR
VERSION:2.0
PRODID:-//wp-events-plugin.com//7.2.3.1//EN
TZID:Europe/Berlin
X-WR-TIMEZONE:Europe/Berlin
BEGIN:VEVENT
UID:422@eesi-impulszentrum.at
DTSTART;TZID=Europe/Berlin:20230127T140000
DTEND;TZID=Europe/Berlin:20230127T180000
DTSTAMP:20230523T063919Z
URL:https://www.eesi-impulszentrum.at/events/oh-an-der-hlw-schroedinger/
SUMMARY:OH an der HLW Schrödinger
DESCRIPTION:Natürlich kann man am Open House unsere Schule kennenlernen. Z
 usätzlich gibt es EE-Aktivitäten\, die sich (wie ein roter Faden und das
  dazugehörige Unterrichtsprinzip) durch unser Haus ziehen... und mit eine
 m vollen Stempelpass gibt's ein Goodie in der Schulküche. Wir freuen uns 
 auf Sie/euch :)
CATEGORIES:Tag der offenen Tür,Workshop,YouthStart
LOCATION:Die Schrödinger HLW Graz\, Schrödinger Str. 5\, Graz\, 8020\, Ö
 sterreich
GEO:47.078813;15.420859
X-APPLE-STRUCTURED-LOCATION;VALUE=URI;X-ADDRESS=Schrödinger Str. 5\, Graz\
 , 8020\, Österreich;X-APPLE-RADIUS=100;X-TITLE=Die Schrödinger HLW Graz:
 geo:47.078813,15.420859
END:VEVENT
BEGIN:VTIMEZONE
TZID:Europe/Berlin
X-LIC-LOCATION:Europe/Berlin
BEGIN:STANDARD
DTSTART:20221030T020000
TZOFFSETFROM:+0200
TZOFFSETTO:+0100
TZNAME:CET
END:STANDARD
END:VTIMEZONE
END:VCALENDAR