BEGIN:VCALENDAR
VERSION:2.0
PRODID:-//wp-events-plugin.com//7.2.3.1//EN
TZID:Europe/Berlin
X-WR-TIMEZONE:Europe/Berlin
BEGIN:VEVENT
UID:116@eesi-impulszentrum.at
DTSTART;TZID=Europe/Berlin:20180528T100000
DTEND;TZID=Europe/Berlin:20180528T170000
DTSTAMP:20170416T191300Z
URL:https://www.eesi-impulszentrum.at/events/misch-dich-ein-staatsmeisters
 chaft-schuelerinnen-debattieren-globalthema-gesellschaft-im-wandel/
SUMMARY:Misch dich ein – Staatsmeisterschaft: SchülerInnen debattieren\,
  Globalthema „Gesellschaft im Wandel“
DESCRIPTION:Inhalt\nDas Debattierturnier verknüpft die Staatsmeisterschaft
  „SchülerInnen debattieren“ mit einer Fortbildung für LehrerInnen.\n
 ReferentInnen\nJohannes Lindner\, Ingo Bandhauer\, Marvin Grünthal\, Stef
 an Lamprechter\, Andreas Prischl\, Madlen Stottmeyer\, Elisabeth Vikydal\n
 Anmeldung\nLehrerInnen (bundesweit) bei claudia.muell@kphvie.ac.at\,\nDeba
 ttierteams bei johannes.lindner@kphvie.ac.at\nMisch dich ein – Staatsmei
 sterschaft: SchülerInnen debattieren\nKPH LV-Nr. 8730.029\nOrt TGA Wien\,
  Plößlgasse 13\, 1040 Wien\, Audi Max u.a.\nDas Globalthema lautet „Ge
 sellschaft im Wandel“ (40)\nTermin Mo.\, 28.05.2018\, 10:00 Uhr – 17:0
 0 Uhr
CATEGORIES:Debattierclub,KPH Programm
LOCATION:TGA Wien\, Plößlgasse 13\, Wien\, 1040\, Österreich
GEO:48.1938497;16.37499379999997
X-APPLE-STRUCTURED-LOCATION;VALUE=URI;X-ADDRESS=Plößlgasse 13\, Wien\, 10
 40\, Österreich;X-APPLE-RADIUS=100;X-TITLE=TGA Wien:geo:48.1938497,16.374
 99379999997
END:VEVENT
BEGIN:VTIMEZONE
TZID:Europe/Berlin
X-LIC-LOCATION:Europe/Berlin
BEGIN:DAYLIGHT
DTSTART:20180325T030000
TZOFFSETFROM:+0100
TZOFFSETTO:+0200
TZNAME:CEST
END:DAYLIGHT
END:VTIMEZONE
END:VCALENDAR