BEGIN:VCALENDAR
VERSION:2.0
PRODID:-//wp-events-plugin.com//7.2.3.1//EN
TZID:Europe/Berlin
X-WR-TIMEZONE:Europe/Berlin
BEGIN:VEVENT
UID:111@eesi-impulszentrum.at
DTSTART;TZID=Europe/Berlin:20170929T100000
DTEND;TZID=Europe/Berlin:20170929T160000
DTSTAMP:20170416T184956Z
URL:https://www.eesi-impulszentrum.at/events/misch-dich-ein-debattiertag-o
 stoesterreich/
SUMMARY:Misch dich ein – Debattiertag (Ostösterreich) Globalthema: „Di
 gitalisierung der Arbeitswelt“
DESCRIPTION:Impulsspeaker\nMag. Muna Duzdar\, MA\, Staatssekretärin für D
 iversität\, Öffentlichen Dienst und Digitalisierung\, Bundeskanzleramt\
 nInhalt\nDas Debattierseminar bietet eine Einführung und Vertiefung in da
 s Debattieren und das Gründen eines Debattierworkshops. Es werden Debatt
 en zum Thema in Kleingruppen durchgeführt.\nReferentIn/nen\nJohannes Lind
 ner\, Ingo Bandhauer\, Marvin Grünthal\, Stefan Lamprechter\, Andreas Pri
 schl\, Madlen Stottmeyer\, Elisabeth Vikydal\, Elke Austerhuber\, PH-Salz
 burg\, u.a.\nAnmeldung\nLehrerInnen (bundesweit): claudia.muell@kphvie.ac.
 at\nSchülerInnen (10:00-14:30 Uhr): johannes.lindner@kphvie.ac.at\nMisch 
 dich ein – Debattiertag.\nGlobalthema: „Digitalisierung der Arbeitswel
 t“ (34 + 35)\nKPH LV.-Nr. 8730.028 (Ostösterreich) Fr.\, 29.09.2017\, 1
 0:00 Uhr – 16:00 Uhr (35):\nOrt: TGA Wien\, Plößlgasse 13\, 1040 Wien\
 , in den Räumen: Audi Max/B402\, A304\, A306\, A405\, A406 und B310
CATEGORIES:Debattierclub,KPH Programm
LOCATION:TGA Wien\, Plößlgasse 13\, Wien\, 1040\, Österreich
GEO:48.1938497;16.37499379999997
X-APPLE-STRUCTURED-LOCATION;VALUE=URI;X-ADDRESS=Plößlgasse 13\, Wien\, 10
 40\, Österreich;X-APPLE-RADIUS=100;X-TITLE=TGA Wien:geo:48.1938497,16.374
 99379999997
END:VEVENT
BEGIN:VTIMEZONE
TZID:Europe/Berlin
X-LIC-LOCATION:Europe/Berlin
BEGIN:DAYLIGHT
DTSTART:20170326T030000
TZOFFSETFROM:+0100
TZOFFSETTO:+0200
TZNAME:CEST
END:DAYLIGHT
END:VTIMEZONE
END:VCALENDAR