BEGIN:VCALENDAR
VERSION:2.0
PRODID:-//wp-events-plugin.com//7.2.3.1//EN
TZID:Europe/Berlin
X-WR-TIMEZONE:Europe/Berlin
BEGIN:VEVENT
UID:403@eesi-impulszentrum.at
DTSTART;TZID=Europe/Berlin:20221212T234500
DTEND;TZID=Europe/Berlin:20221212T234500
DTSTAMP:20221019T074749Z
URL:https://www.eesi-impulszentrum.at/events/meldeschluss-next-generation-
 award/
SUMMARY:Meldeschluss Next Generation Award
DESCRIPTION:Ausschreibung-Next-Generation 2022_23
CATEGORIES:Wettbewerb
END:VEVENT
BEGIN:VTIMEZONE
TZID:Europe/Berlin
X-LIC-LOCATION:Europe/Berlin
BEGIN:STANDARD
DTSTART:20221030T020000
TZOFFSETFROM:+0200
TZOFFSETTO:+0100
TZNAME:CET
END:STANDARD
END:VTIMEZONE
END:VCALENDAR