BEGIN:VCALENDAR
VERSION:2.0
PRODID:-//wp-events-plugin.com//7.2.3.1//EN
TZID:Europe/Berlin
X-WR-TIMEZONE:Europe/Berlin
BEGIN:VEVENT
UID:371@eesi-impulszentrum.at
DTSTART;TZID=Europe/Berlin:20211215T080000
DTEND;TZID=Europe/Berlin:20211222T130000
DTSTAMP:20211010T144147Z
URL:https://www.eesi-impulszentrum.at/events/mein-finanzleben/
SUMMARY:Mein Finanzleben
DESCRIPTION:Mein Finanzleben: Eine Initiative der WFO Bruneck/Innichen geme
 insam mit der Raiffeisenkasse Bruneck\, bei der die Schüler*innen in etwa
  5-6 Unterrichtseinheiten (außerhalb der Unterrichtszeit) ihre Kompetenze
 n im Bereich "Finanzen" erweitern können. Neben inhaltlichen Inputs arbei
 ten die Schüler*innen unter Anleitung in Gruppen an Fallstudien und einem
  Finanzquiz. Die erfolgreichste Gruppe wird von der Raiffeisenkasse prämi
 ert. Die Anmeldung erfolgt freiwillig.\n\nInitiator und Koordinator: Marti
 n Winkler
CATEGORIES:Wettbewerb
LOCATION:WFO Bruneck und Innichen\, Josef-Ferrari-Straße 12\, Bruneck\, IT
 -39031\, Österreich
GEO:46.79027;11.93236
X-APPLE-STRUCTURED-LOCATION;VALUE=URI;X-ADDRESS=Josef-Ferrari-Straße 12\, 
 Bruneck\, IT-39031\, Österreich;X-APPLE-RADIUS=100;X-TITLE=WFO Bruneck un
 d Innichen:geo:46.79027,11.93236
END:VEVENT
BEGIN:VTIMEZONE
TZID:Europe/Berlin
X-LIC-LOCATION:Europe/Berlin
BEGIN:STANDARD
DTSTART:20211031T020000
TZOFFSETFROM:+0200
TZOFFSETTO:+0100
TZNAME:CET
END:STANDARD
END:VTIMEZONE
END:VCALENDAR