BEGIN:VCALENDAR
VERSION:2.0
PRODID:-//wp-events-plugin.com//7.2.3.1//EN
TZID:Europe/Berlin
X-WR-TIMEZONE:Europe/Berlin
BEGIN:VEVENT
UID:276@eesi-impulszentrum.at
DTSTART;TZID=Europe/Berlin;VALUE=DATE:20191106
DTEND;TZID=Europe/Berlin;VALUE=DATE:20191107
DTSTAMP:20190322T131803Z
URL:https://www.eesi-impulszentrum.at/events/landesmeisterschaften-hak-ski
 lls/
SUMMARY:Landesmeisterschaften HAK-Skills
DESCRIPTION:9 Landesmeisterschaften als Vorausscheidung für die Staatsmeis
 terschaften\n\nPro Bundesland ein Wettbewerb (mehrere Veranstaltungsorte)\
 n\n&nbsp\;
CATEGORIES:Allgemein
END:VEVENT
BEGIN:VTIMEZONE
TZID:Europe/Berlin
X-LIC-LOCATION:Europe/Berlin
BEGIN:STANDARD
DTSTART:20191027T020000
TZOFFSETFROM:+0200
TZOFFSETTO:+0100
TZNAME:CET
END:STANDARD
END:VTIMEZONE
END:VCALENDAR