BEGIN:VCALENDAR
VERSION:2.0
PRODID:-//wp-events-plugin.com//7.2.3.1//EN
TZID:Europe/Berlin
X-WR-TIMEZONE:Europe/Berlin
BEGIN:VEVENT
UID:357@eesi-impulszentrum.at
DTSTART;TZID=Europe/Berlin;VALUE=DATE:20220330
DTEND;TZID=Europe/Berlin;VALUE=DATE:20220331
DTSTAMP:20211014T144645Z
URL:https://www.eesi-impulszentrum.at/events/landesausscheidungen-hak-skil
 ls/
SUMMARY:Entrepreneurship Landesausscheidungen
DESCRIPTION:Termin für die bundesweiten Landesausscheidungen für die Qual
 ifikation zur Entrepreneurship Bundesmeisterschaft\n\nMaximal 9 Teams je B
 undesland (à 2 Personen)\n\nAufgrund der aktuellen Covid-Situation musste
  die Landesmeisterschaften von Oktober 2021 auf Frühjahr 2022 verschoben 
 werden!\nMehr Info hier.\n\nNeuer Termin: 30. März 2022\n\n(alt: Ausschre
 ibung Entrepreneurship Landesmeisterschaft 20.10.2021)\n\n&nbsp\;
CATEGORIES:Allgemein
END:VEVENT
BEGIN:VTIMEZONE
TZID:Europe/Berlin
X-LIC-LOCATION:Europe/Berlin
BEGIN:DAYLIGHT
DTSTART:20220327T030000
TZOFFSETFROM:+0100
TZOFFSETTO:+0200
TZNAME:CEST
END:DAYLIGHT
END:VTIMEZONE
END:VCALENDAR