BEGIN:VCALENDAR
VERSION:2.0
PRODID:-//wp-events-plugin.com//7.2.3.1//EN
TZID:Europe/Berlin
X-WR-TIMEZONE:Europe/Berlin
BEGIN:VEVENT
UID:374@eesi-impulszentrum.at
DTSTART;TZID=Europe/Berlin:20211011T000000
DTEND;TZID=Europe/Berlin:20211015T000000
DTSTAMP:20211008T140333Z
URL:https://www.eesi-impulszentrum.at/events/kite2-keep-in-touch-europe-er
 assmus-projekt/
SUMMARY:KITE2  (Keep in touch Europe) Erassmus+ Projekt
DESCRIPTION:Kite 2 (Keep in Touch Europe 2): Ein Erasmus+ Projekt zum Thema
 : Cultural Heritage\n\nSechs Partnerschulen aus Rethymnon in Kreta (2 Schu
 len)\, Pescara in Italien\, ein Gymnasium von den Azoren (Portugal)\, die 
 MS Trofaiach und BHAK Eisenerz arbeiten eine Woche lang in diesem Erasmusp
 rojekt zusammen. Es geht um das Kennenlernen kulturellen Erbes im jeweilig
 en Land. In Eisenerz bzw. im Bezirk Leoben liegt der Schwerpunkt auf der B
 ergbautradition. Das Projekt spiegelt in verschiedenster Hinsicht den entr
 epreneurial Spirit wider: Arbeitssprache ist natürlich Englisch\, die SuS
  beweisen Teamfähigkeit\, indem sie länder- und schultypenübergreifend 
 zusammenarbeiten und so von einander lernen. Es wurden QR Codes erstellt\,
  die Informationen zu Sehenswürdigkeiten\, welche mit der Bergbautraditio
 n verknüpft sind\, liefern. Diese Codes werden auf Schautafeln an den Seh
 enswürdigkeiten angebracht und verbleiben an diesen Orten\, so ist auch e
 in nachhaltiger Effekt des Projektes in der Gemeinde vorhanden. Eine der A
 ktivitäten ist  Geocaching: Die Gastschule hat Caches versteckt\, welche
  mit Hilfe der App aufgespürt werden. Als Überraschung beinhaltet der je
 weilige Cach auch wieder Infos zur kulturellen Identität der Gastregion. 
 Diese Aktivität zeigt\, wie gut die Jugendlichen neue Medien nutzen könn
 en. Zahlreiche weitere Aktivitäten wie Präsentationen über die Region u
 nd den Schultyp\, kulturelle Darbietungen\, Betriebsbesichtigungen der VA 
 Erzberg und der Schokomanufaktur Zotter\, Kennenlernen der Landeshauprstad
 t Graz und die Teilnahme am Running for Europe Walk und Run\, der coronabe
 dingt als App-Veranstaltung ausgetragen wird\, runden das abwechslungsreic
 he Programm dieser Woche ab.
CATEGORIES:Allgemein
LOCATION:BHAK Eisenerz\, Hieflauerstraße 89\, Eisenerz\, 8790\, Österreic
 h
GEO:47.560405;14.864678
X-APPLE-STRUCTURED-LOCATION;VALUE=URI;X-ADDRESS=Hieflauerstraße 89\, Eisen
 erz\, 8790\, Österreich;X-APPLE-RADIUS=100;X-TITLE=BHAK Eisenerz:geo:47.5
 60405,14.864678
END:VEVENT
BEGIN:VTIMEZONE
TZID:Europe/Berlin
X-LIC-LOCATION:Europe/Berlin
BEGIN:DAYLIGHT
DTSTART:20210328T030000
TZOFFSETFROM:+0100
TZOFFSETTO:+0200
TZNAME:CEST
END:DAYLIGHT
END:VTIMEZONE
END:VCALENDAR