BEGIN:VCALENDAR
VERSION:2.0
PRODID:-//wp-events-plugin.com//7.2.3.1//EN
TZID:Europe/Berlin
X-WR-TIMEZONE:Europe/Berlin
BEGIN:VEVENT
UID:523@eesi-impulszentrum.at
DTSTART;TZID=Europe/Berlin;VALUE=DATE:20241107
DTEND;TZID=Europe/Berlin;VALUE=DATE:20241108
DTSTAMP:20250409T092810Z
URL:https://www.eesi-impulszentrum.at/events/karrieretag-an-der-bhak-oberp
 ullendorf/
SUMMARY:Karrieretag an der BHAK Oberpullendorf
DESCRIPTION:Am Donnerstag\, dem 7. November 2024\, wird der reguläre Unter
 richt (1. - 4. Stunde) der 5 AK und 5 BK durch Vorträge ersetzt wird.  \
 nEs werden Referent:innen in die Schule kommen\, welche die Schüler:innen
  über unterschiedliche Studienmöglichkeiten informieren. Außerdem haben
  Sie die Gelegenheit\, einen potenziellen zukünftigen Arbeitgeber der Re
 gion kennenzulernen. \nDie Vorträge der Referent:innen finden im Vortra
 gssaal statt und laufen nacheinander ab:\n08:00 - 09:00  Fachhochschul
 e Burgenland\n09:00 - 10:00  Fachhochschule Wr. Neustadt\n10:00 - 11:0
 0  GCT - Gneist Consulting\n11:00 - 12:00  Universität Wien - Ös
 terreichische Hochschüler:innenschaft\nZwischendurch wird es immer wieder
  eine Pause geben\, da die Referent:innen keine volle Stunde in Anspruch n
 ehmen.
CATEGORIES:Workshop
LOCATION:BHAK/BHAS Oberpullendorf\, Gymnasiumstr. 19\, Oberpullendorf\, 735
 0\, Österreich
GEO:47.5046;16.502076
X-APPLE-STRUCTURED-LOCATION;VALUE=URI;X-ADDRESS=Gymnasiumstr. 19\, Oberpull
 endorf\, 7350\, Österreich;X-APPLE-RADIUS=100;X-TITLE=BHAK/BHAS Oberpulle
 ndorf:geo:47.5046,16.502076
END:VEVENT
BEGIN:VTIMEZONE
TZID:Europe/Berlin
X-LIC-LOCATION:Europe/Berlin
BEGIN:STANDARD
DTSTART:20241027T020000
TZOFFSETFROM:+0200
TZOFFSETTO:+0100
TZNAME:CET
END:STANDARD
END:VTIMEZONE
END:VCALENDAR