BEGIN:VCALENDAR
VERSION:2.0
PRODID:-//wp-events-plugin.com//7.2.3.1//EN
TZID:Europe/Berlin
X-WR-TIMEZONE:Europe/Berlin
BEGIN:VEVENT
UID:440@eesi-impulszentrum.at
DTSTART;TZID=Europe/Berlin;VALUE=DATE:20231113
DTEND;TZID=Europe/Berlin;VALUE=DATE:20231114
DTSTAMP:20230923T104800Z
URL:https://www.eesi-impulszentrum.at/events/innovation-bhak-bhas-deutschl
 andsberg/
SUMMARY:Innovation @ BHAK/BHAS Deutschlandsberg
DESCRIPTION:Vortrag Innovationsmanagement/Ideenfindung von Prof. DI Dr. Ter
 ler / FH Campus02 für alle SuS
CATEGORIES:Allgemein
LOCATION:BHAK/BHAS Deutschlandsberg\, Lagergasse 11\, Deutschlandsberg\, 85
 30 \, Österreich
GEO:46.821176;15.223621
X-APPLE-STRUCTURED-LOCATION;VALUE=URI;X-ADDRESS=Lagergasse 11\, Deutschland
 sberg\, 8530 \, Österreich;X-APPLE-RADIUS=100;X-TITLE=BHAK/BHAS Deutschla
 ndsberg:geo:46.821176,15.223621
END:VEVENT
BEGIN:VTIMEZONE
TZID:Europe/Berlin
X-LIC-LOCATION:Europe/Berlin
BEGIN:STANDARD
DTSTART:20231029T020000
TZOFFSETFROM:+0200
TZOFFSETTO:+0100
TZNAME:CET
END:STANDARD
END:VTIMEZONE
END:VCALENDAR