BEGIN:VCALENDAR
VERSION:2.0
PRODID:-//wp-events-plugin.com//7.2.3.1//EN
TZID:Europe/Berlin
X-WR-TIMEZONE:Europe/Berlin
BEGIN:VEVENT
UID:108@eesi-impulszentrum.at
DTSTART;TZID=Europe/Berlin:20170509T170000
DTEND;TZID=Europe/Berlin:20170509T200000
DTSTAMP:20170429T201413Z
URL:https://www.eesi-impulszentrum.at/events/ideen-fuer-oesterreich-debatt
 ieren/
SUMMARY:Ideen für Österreich debattieren "Politische Beteiligung"
DESCRIPTION:Impulsspeaker\nDr. Irmgard Griss\, Juristin\, langjährige Prä
 sidentin des Obersten Gerichtshofes. Bei der Bundespräsidentenwahl 2016 t
 rat Dr. Griss als unabhängige Kandidatin an.\nInhalt\n„Ideen für Öste
 rreich debattieren“ bietet eine Einführung und Vertiefung in das Debatt
 ieren. Pro Termin wird ein Thema durch einen Speaker eingeführt und ansch
 ließend die Möglichkeit zu Debatten in Kleingruppen geboten. Es werden b
 is zu fünf Debatten zeitgleich durchgeführt. Der 09.05. ist Teil der Int
 egrationswoche und der Aktionstage Politische Bildung.\nReferentInnen\nIng
 o Bandhauer\, Marvin Grünthal\, Stefan Lamprechter\, Johannes Lindner\, A
 ndreas Prischl\, Madlen Stottmeyer u.a.\nAnmeldung\nfür LehrerInnen bis e
 ine Woche vor dem Termin bei claudia.muell@nullkphvie.ac.at\nund SchülerI
 nnen bei johannes.lindner@nullkphvie.ac.at\nIdeen für Österreich debatti
 eren\nKPH LV.-Nr 8740.032 Di.\, 09.05.2017\, 17:00 Uhr – 20:00 Uhr: Pol
 itische Beteiligung (31)\nOrt: TGA Wien\, Plößlgasse 13\, 1040 Wien\, Au
 di Max\, B307\, B308\, B311 und B312\nVeranstaltung des Sommersemesters 20
 17
CATEGORIES:Debattierclub,KPH Programm
LOCATION:TGA Wien\, Plößlgasse 13\, Wien\, 1040\, Österreich
GEO:48.1938497;16.37499379999997
X-APPLE-STRUCTURED-LOCATION;VALUE=URI;X-ADDRESS=Plößlgasse 13\, Wien\, 10
 40\, Österreich;X-APPLE-RADIUS=100;X-TITLE=TGA Wien:geo:48.1938497,16.374
 99379999997
END:VEVENT
BEGIN:VTIMEZONE
TZID:Europe/Berlin
X-LIC-LOCATION:Europe/Berlin
BEGIN:DAYLIGHT
DTSTART:20170326T030000
TZOFFSETFROM:+0100
TZOFFSETTO:+0200
TZNAME:CEST
END:DAYLIGHT
END:VTIMEZONE
END:VCALENDAR