BEGIN:VCALENDAR
VERSION:2.0
PRODID:-//wp-events-plugin.com//7.2.3.1//EN
TZID:Europe/Berlin
X-WR-TIMEZONE:Europe/Berlin
BEGIN:VEVENT
UID:115@eesi-impulszentrum.at
DTSTART;TZID=Europe/Berlin:20180515T170000
DTEND;TZID=Europe/Berlin:20180515T200000
DTSTAMP:20170416T184248Z
URL:https://www.eesi-impulszentrum.at/events/ideen-fuer-oesterreich-debatt
 ieren-verleitung-zur-unruhe/
SUMMARY:Ideen für Österreich debattieren „Verleitung zur Unruhe“
DESCRIPTION:Impulsspeaker\nBernhard Heinzlmaier\, Sozialwissenschaftler und
  Jugendforscher\nInhalt\nDie Veranstaltung bietet eine Einführung &amp\; 
 Vertiefung in das Debattieren. Pro Termin wird ein Thema eingeführt und d
 ie Möglichkeit zu Debatten in Kleingruppen geboten. Es werden bis zu 5 De
 batten zeitgleich durchgeführt.\nReferentInnen\nIngo Bandhauer\, Marvin G
 rünthal\, Stefan Lamprechter\, Johannes Lindner\, Andreas Prischl\, Madle
 n Stottmeyer u.a.\nAnmeldung\nLehrerInnen: claudia.muell@kphvie.ac.at\nSch
 ülerInnen: johannes.lindner@kphvie.ac.at\nIdeen für Österreich debattie
 ren\nOrt TGA Wien\, Plößlgasse 13\, 1040 Wien\, Audi Max\, B307\, B308\,
  B311 und B312\nKPH LV.-Nr.\n8740.005 Di.\, 07.11.2017\, 17:00 Uhr – 20:
 00 Uhr: „Glauben wir alles\, was Zeitungen schreiben?“ (36)\n8740.006 
 Mi.\, 06.12.2017\, 17:00 Uhr – 20:00 Uhr: „Mit Ungehorsamkeit zur pers
 önlichen Verantwortung“(37)\n8740.007 Mi.\, 04.04.2018\, 17:00 Uhr – 
 20:00 Uhr: „Politik mit der Angst“ (38)\n8740.008 Di.\, 15.05.2018\, 1
 7:00 Uhr – 20:00 Uhr: „Verleitung zur Unruhe“(39)
CATEGORIES:Debattierclub,KPH Programm
LOCATION:TGA Wien\, Plößlgasse 13\, Wien\, 1040\, Österreich
GEO:48.1938497;16.37499379999997
X-APPLE-STRUCTURED-LOCATION;VALUE=URI;X-ADDRESS=Plößlgasse 13\, Wien\, 10
 40\, Österreich;X-APPLE-RADIUS=100;X-TITLE=TGA Wien:geo:48.1938497,16.374
 99379999997
END:VEVENT
BEGIN:VTIMEZONE
TZID:Europe/Berlin
X-LIC-LOCATION:Europe/Berlin
BEGIN:DAYLIGHT
DTSTART:20180325T030000
TZOFFSETFROM:+0100
TZOFFSETTO:+0200
TZNAME:CEST
END:DAYLIGHT
END:VTIMEZONE
END:VCALENDAR