BEGIN:VCALENDAR
VERSION:2.0
PRODID:-//wp-events-plugin.com//7.2.3.1//EN
TZID:Europe/Berlin
X-WR-TIMEZONE:Europe/Berlin
BEGIN:VEVENT
UID:114@eesi-impulszentrum.at
DTSTART;TZID=Europe/Berlin:20180404T170000
DTEND;TZID=Europe/Berlin:20180404T200000
DTSTAMP:20170416T184111Z
URL:https://www.eesi-impulszentrum.at/events/ideen-fuer-oesterreich-debatt
 ieren-politik-mit-der-angst/
SUMMARY:Ideen für Österreich debattieren „Politik mit der Angst“
DESCRIPTION:Impulsspeaker\nUniv.-Prof. Dr. Ruth Wodak\, Autorin des Wissens
 chaftsbuchs des Jahres\nInhalt\nDie Veranstaltung bietet eine Einführung 
 &amp\; Vertiefung in das Debattieren. Pro Termin wird ein Thema eingeführ
 t und die Möglichkeit zu Debatten in Kleingruppen geboten. Es werden bis 
 zu 5 Debatten zeitgleich durchgeführt.\nReferentInnen\nIngo Bandhauer\, M
 arvin Grünthal\, Stefan Lamprechter\, Johannes Lindner\, Andreas Prischl\
 , Madlen Stottmeyer u.a.\nAnmeldung\nLehrerInnen: claudia.muell@kphvie.ac.
 at\nSchülerInnen: johannes.lindner@kphvie.ac.at\nIdeen für Österreich d
 ebattieren\nOrt TGA Wien\, Plößlgasse 13\, 1040 Wien\, Audi Max\, B307\,
  B308\, B311 und B312\nKPH LV.-Nr.\n8740.005 Di.\, 07.11.2017\, 17:00 Uhr 
 – 20:00 Uhr: „Glauben wir alles\, was Zeitungen schreiben?“ (36)\n87
 40.006 Mi.\, 06.12.2017\, 17:00 Uhr – 20:00 Uhr: „Mit Ungehorsamkeit z
 ur persönlichen Verantwortung“(37)\n8740.007 Mi.\, 04.04.2018\, 17:00 U
 hr – 20:00 Uhr: „Politik mit der Angst“ (38)\n8740.008 Di.\, 15.05.2
 018\, 17:00 Uhr – 20:00 Uhr: „Verleitung zur Unruhe“(39)
CATEGORIES:Debattierclub,KPH Programm
LOCATION:TGA Wien\, Plößlgasse 13\, Wien\, 1040\, Österreich
GEO:48.1938497;16.37499379999997
X-APPLE-STRUCTURED-LOCATION;VALUE=URI;X-ADDRESS=Plößlgasse 13\, Wien\, 10
 40\, Österreich;X-APPLE-RADIUS=100;X-TITLE=TGA Wien:geo:48.1938497,16.374
 99379999997
END:VEVENT
BEGIN:VTIMEZONE
TZID:Europe/Berlin
X-LIC-LOCATION:Europe/Berlin
BEGIN:DAYLIGHT
DTSTART:20180325T030000
TZOFFSETFROM:+0100
TZOFFSETTO:+0200
TZNAME:CEST
END:DAYLIGHT
END:VTIMEZONE
END:VCALENDAR