BEGIN:VCALENDAR
VERSION:2.0
PRODID:-//wp-events-plugin.com//7.2.3.1//EN
TZID:Europe/Berlin
X-WR-TIMEZONE:Europe/Berlin
BEGIN:VEVENT
UID:109@eesi-impulszentrum.at
DTSTART;TZID=Europe/Berlin:20170525T170000
DTEND;TZID=Europe/Berlin:20170525T200000
DTSTAMP:20170420T074644Z
URL:https://www.eesi-impulszentrum.at/events/ideen-fuer-oesterreich-debatt
 ieren-2/
SUMMARY:Ideen für Österreich debattieren "Gibt es genug Jobs für ALLE?!"
DESCRIPTION:Impulsspeaker\nAndreas Sator\, Wirtschaftsredakteur DER STANDAR
 D\nInhalt\n„Ideen für Österreich debattieren“ bietet eine Einführun
 g und Vertiefung in das Debattieren. Pro Termin wird ein Thema durch einen
  Speaker eingeführt und anschließend die Möglichkeit zu Debatten in Kle
 ingruppen geboten. Es werden bis zu fünf Debatten zeitgleich durchgeführ
 t. Der 09.05. ist Teil der Integrationswoche und der Aktionstage Politisch
 e Bildung.\nReferentInnen\nIngo Bandhauer\, Marvin Grünthal\, Stefan Lamp
 rechter\, Johannes Lindner\, Andreas Prischl\, Madlen Stottmeyer u.a.\nAnm
 eldung\nfür LehrerInnen bis eine Woche vor dem Termin bei claudia.muell@k
 phvie.ac.at\nund SchülerInnen bei johannes.lindner@kphvie.ac.at\nIdeen f
 ür Österreich debattieren\nKPH LV.-Nr. 8740.033 Di.\, 23.05.2017\, 17:0
 0 Uhr – 20:00 Uhr: Gibt es genug Jobs für ALLE?! (32)\,\nVeranstaltung 
 des Sommersemesters 2017\nOrt: TGA Wien\, Plößlgasse 13\, 1040 Wien\, Au
 di Max\, B307\, B308\, B311 und B312
CATEGORIES:Debattierclub,KPH Programm
LOCATION:TGA Wien\, Plößlgasse 13\, Wien\, 1040\, Österreich
GEO:48.1938497;16.37499379999997
X-APPLE-STRUCTURED-LOCATION;VALUE=URI;X-ADDRESS=Plößlgasse 13\, Wien\, 10
 40\, Österreich;X-APPLE-RADIUS=100;X-TITLE=TGA Wien:geo:48.1938497,16.374
 99379999997
END:VEVENT
BEGIN:VTIMEZONE
TZID:Europe/Berlin
X-LIC-LOCATION:Europe/Berlin
BEGIN:DAYLIGHT
DTSTART:20170326T030000
TZOFFSETFROM:+0100
TZOFFSETTO:+0200
TZNAME:CEST
END:DAYLIGHT
END:VTIMEZONE
END:VCALENDAR